BEGIN:VCALENDAR
VERSION:2.0
PRODID:-//ExpressionEngine Easy iCalendar plugin//NONSGML v2.0.0//EN
X-WR-TIMEZONE:America/Los_Angeles
X-WR-CALNAME:Upcoming Auctions
BEGIN:VEVENT
UID:160136
DTSTAMP:20260511T160000
DTSTART:20260511T160000
DTEND:20260521T160000
SUMMARY:1.58 AC  Commercial Land Federal Way\, Washington
LOCATION:2105 SW 320TH ST\, Federal Way\, WA 98023\, US
DESCRIPTION:First Bid Meets Reserve THIS IS THE ONE. A prime\, high-visib
 ility 1.58± acre corner parcel is hitting the auction block
  — and savvy investors are already taking notice. Perfectl
 y positioned at a signalized intersection in one of Federal 
 Way's most dynamic retail and residential corridors\, this is
  the kind of deal that doesn't come around twice.
URL:https://www.transitionauctiongroup.com/auctions/detail/bw160
 136
SEQUENCE:1
END:VEVENT
END:VCALENDAR