BEGIN:VCALENDAR
VERSION:2.0
PRODID:-//ExpressionEngine Easy iCalendar plugin//NONSGML v2.0.1//EN
X-WR-TIMEZONE:America/New_York
X-WR-CALNAME:Upcoming Auctions
BEGIN:VEVENT
UID:160631
DTSTAMP:20260511T160000
DTSTART:20260511T160000
DTEND:20260520T160000
SUMMARY:7424 Bessermer Ave 25\,712 SF Industrial Building
LOCATION:7424 Bessemer \, Cleveland\, OH 44127\, US
DESCRIPTION:±25\,712 SF industrial building on ±1.04 acres in Cleveland
 ’s established industrial corridor. Features a functional 
 mix of warehouse space and ±1\,500 SF of office with strong 
 ceiling heights ranging 15’–25’. Equipped with both a 
 dock-high door and a new 14’ drive-in door (2025) for fl
 exible operations. Recent capital improvements include roof 
 updates and new office windows\, reducing near-term costs. Zo
 ned General Industry and located within an Opportunity Zo
 ne. Ideal for owner-users or investors seeking well-located\,
  usable industrial space with upside.
URL:https://www.transitionauctiongroup.com/auctions/detail/bw160
 631
SEQUENCE:1
END:VEVENT
END:VCALENDAR