BEGIN:VCALENDAR
VERSION:2.0
PRODID:-//ExpressionEngine Easy iCalendar plugin//NONSGML v2.0.1//EN
X-WR-TIMEZONE:America/New_York
X-WR-CALNAME:Upcoming Auctions
BEGIN:VEVENT
UID:160632
DTSTAMP:20260511T153000
DTSTART:20260511T153000
DTEND:20260520T153000
SUMMARY:7500 Bessemer 16\,253 SF Industrial Building
LOCATION:7500 Bessemer Ave \, Cleveland\, OH 44127\, US
DESCRIPTION:±16\,253 SF industrial facility on a ±0.55-acre fenced sit
 e with dedicated parking. Features a 4\,266 SF newly renova
 ted office (2 floors)—ideal for users needing strong offic
 e presence. Warehouse offers 14’–18’ heights (16’ cl
 ear) with two drive-in doors and two dock doors. Powered by
  400 Amp / 480V 3-phase\, supporting manufacturing and heavy
  industrial use. Prior environmental cleanup completed with 
 favorable EPA review. Located in a General Industry zone an
 d Opportunity Zone\, offering flexibility and long-term poten
 tial.
URL:https://www.transitionauctiongroup.com/auctions/detail/bw160
 632
SEQUENCE:1
END:VEVENT
END:VCALENDAR